BEGIN:VCALENDAR
VERSION:2.0
PRODID:-//ECWA - ECPv4.7.0.1//NONSGML v1.0//EN
CALSCALE:GREGORIAN
METHOD:PUBLISH
X-WR-CALNAME:ECWA
X-ORIGINAL-URL:https://ecwa.org.au
X-WR-CALDESC:Events for ECWA
BEGIN:VEVENT
DTSTART;VALUE=DATE:20181124
DTEND;VALUE=DATE:20181125
DTSTAMP:20190301T135817
CREATED:20181103T044259Z
LAST-MODIFIED:20181103T051125Z
UID:1010-1543017600-1543103999@ecwa.org.au
SUMMARY:ECWA Women and Youth Leadership Election
DESCRIPTION:The purpose of this meeting is for Women and Youth to conduct election and Family BBQ. Equatoria Community in NSW on the day will support Equatoria Women to conduct free\, fair and credible election to nominate Equatoria Community Chairlady who automatically will be Secretary for Women Affairs in ECWA Executive. And the youth of Equatoria Community also be supported to nominate Equatoria Youth Leader. The Youth Leader nominated will authomatically be Secretary for Youth & Sports Affairs in ECWA Executive. \n  \nThe Meeting will be:\nDate: Saturday 24/11/2018\nTime: 12:00 – 6:00 pm\nVenue: St. Patrick Church-51-59 Allawah Street\,  Blacktown NSW 2148 \nThere will be BBQ and entertainment on the day. Sub Equatoria Community leaders in NSW are asked to pass this information to all their members. Elders and Community Advisory Committee are also encouraged to come to share ideas on the day. \nECWA Encourages all Equatorians to spare the day for this event\nCampaign is now open to all Women and Youth. Bring all kids to enjoy on the day.\nPass this message to those who do not have access to Internet to see this on www.ecwa.org.au/event \n
URL:https://ecwa.org.au/event/ecwa-women-and-youth-leadership-election/
CATEGORIES:Upcoming Events
ATTACH;FMTTYPE=image/jpeg:https://ecwa.org.au/wp-content/uploads/2018/11/20180714_1714151.jpg
END:VEVENT
END:VCALENDAR